BEGIN:VCALENDAR
PRODID:-//med.meiji-seika-pharma.co.jp/CNS/ //EN
VERSION:2.0
METHOD:PUBLISH
BEGIN:VEVENT
DTSTART;TZID=Asia/Tokyo:20260608T190000
DTEND;TZID=Asia/Tokyo:20260608T194500
SUMMARY:MMN Webカンファレンス～オンラインセミナー～
LOCATION:
CATEGORIES:オンコロジー
DESCRIPTION:【6月8日開催】Webカンファレンス視聴：Making Single Agents Work in PTCL with my Vision =様々な薬剤特性を生かしたSingle agentの使用法=
DTSTAMP:202606
UID:med.meiji-seika-pharma.co.jp/seminar/-260608-on-1900
CLASS:PUBLIC
END:VEVENT
END:VCALENDAR