BEGIN:VCALENDAR
PRODID:-//med.meiji-seika-pharma.co.jp/CNS/ //EN
VERSION:2.0
METHOD:PUBLISH
BEGIN:VEVENT
DTSTART;TZID=Asia/Tokyo:20260528T190000
DTEND;TZID=Asia/Tokyo:20260528T194500
SUMMARY:MMN Webカンファレンス～オンラインセミナー～
LOCATION:
CATEGORIES:オンコロジー
DESCRIPTION:【5月28日開催】Webカンファレンス視聴：エピジェネティク治療薬の有用性について作用機序から再考する
DTSTAMP:202605
UID:med.meiji-seika-pharma.co.jp/seminar/-260528-on-1900
CLASS:PUBLIC
END:VEVENT
END:VCALENDAR